BEGIN:VCALENDAR
PRODID:-//Mozilla.org/NONSGML Mozilla Calendar V1.1//EN
VERSION:2.0
BEGIN:VTIMEZONE
TZID:Europe/Berlin
X-LIC-LOCATION:Europe/Berlin
BEGIN:DAYLIGHT
TZOFFSETFROM:+0100
TZOFFSETTO:+0200
TZNAME:CEST
DTSTART:19700329T020000
RRULE:FREQ=YEARLY;BYDAY=-1SU;BYMONTH=3
END:DAYLIGHT
BEGIN:STANDARD
TZOFFSETFROM:+0200
TZOFFSETTO:+0100
TZNAME:CET
DTSTART:19701025T030000
RRULE:FREQ=YEARLY;BYDAY=-1SU;BYMONTH=10
END:STANDARD
END:VTIMEZONE
BEGIN:VTIMEZONE
TZID:W. Europe Standard Time
BEGIN:STANDARD
DTSTART:16010101T030000
TZOFFSETFROM:+0200
TZOFFSETTO:+0100
RRULE:FREQ=YEARLY;BYDAY=-1SU;BYMONTH=10
END:STANDARD
BEGIN:DAYLIGHT
DTSTART:16010101T020000
TZOFFSETFROM:+0100
TZOFFSETTO:+0200
RRULE:FREQ=YEARLY;BYDAY=-1SU;BYMONTH=3
END:DAYLIGHT
END:VTIMEZONE
BEGIN:VEVENT
CREATED:20110805T232706Z
LAST-MODIFIED:20110808T092328Z
DTSTAMP:20110808T092328Z
UID:c6aa205c-2ee0-4cb6-8b8c-bfddcc3b9198
SUMMARY:Interview mit Christine Häsler
DTSTART;TZID=Europe/Berlin:20110831T103000
DTEND;TZID=Europe/Berlin:20110831T120000
LOCATION:Restaurant Grosse Schanze
DESCRIPTION:Grüne Nationalratskandidatin\nKraftwerke Oberhasli
SEQUENCE:1
X-MOZ-GENERATION:1
END:VEVENT
BEGIN:VEVENT
CREATED:20110803T140908Z
LAST-MODIFIED:20110907T104356Z
DTSTAMP:20110907T104356Z
UID:1f086881-5214-4e0e-a6f7-de22d5ad22d9
SUMMARY:Bewerbungsgespräch SBB
CATEGORIES:Besprechung
X-MOZ-LASTACK:20110907T104356Z
DTSTART;TZID=Europe/Berlin:20110907T144500
DTEND;TZID=Europe/Berlin:20110907T154500
LOCATION:Hochschulstrasse 6\, 3000 Bern 65
SEQUENCE:2
X-MOZ-GENERATION:4
DESCRIPTION:Ihre AufgabenSie unterstützen den / die Senior-Kommunikations
 beauftragte/n IT bei der Konzeption und Umsetzung der IT-Themen. Ihr Schwe
 rpunkt liegt in der Kommunikation innerhalb der IT-Community. Dabei sind S
 ie zuständig für das Texten interner Arti...\n\n...strukturiert und ziel
 orientiert an\, vernetzen sich leicht mit internen und externen Partnern u
 nd sind stark in der kundenorientierten Umsetzung. Wenn Sie zudem eine sta
 rkes Interesse an IT-Themen haben und in einem manchmal hektischen\, aber 
 immer interessanten Arbeitsumfeld wohl sind\, dann freuen wir uns auf Ihre
  Bewerbung. \n\nDas dürfen Sie erwarten \nWerden Sie Teil der SBB\, packe
 n Sie mit an und bewegen Sie mit uns die Schweiz. Lassen Sie sich begeiste
 rn und vollbringen Sie gemeinsam mit 28'000 Kolleginnen und Kollegen tägl
 ich eine Meisterleistung. \n\nKontakt \nFrau S. Widmer beantwortet Ihre Fr
 agen gerne unter Tel. 051 220 23 29. Sie können sich direkt online bewerb
 en oder Ihre Unterlagen an folgende Adresse senden: SBB AG\, HR Shared Ser
 vice Center\, Rue de la Carrière 2a\, 1701 Fribourg.
BEGIN:VALARM
ACTION:DISPLAY
TRIGGER;VALUE=DURATION:-P1D
DESCRIPTION:Mozilla Standardbeschreibung
END:VALARM
END:VEVENT
BEGIN:VEVENT
CREATED:20111010T124830Z
LAST-MODIFIED:20111011T133007Z
DTSTAMP:20111011T133007Z
UID:6489ee47-2c0a-4c6f-907e-dd9d13343221
SUMMARY:Dr. med. Uwe H. Bierbach
X-MOZ-LASTACK:20111011T133007Z
DTSTART;TZID=Europe/Berlin:20111011T173000
DTEND;TZID=Europe/Berlin:20111011T183000
LOCATION:Neubrückstrasse 96\,CH-3012 Bern
X-MOZ-GENERATION:1
BEGIN:VALARM
ACTION:DISPLAY
TRIGGER;VALUE=DURATION:-PT2H
DESCRIPTION:Mozilla Standardbeschreibung
END:VALARM
END:VEVENT
BEGIN:VEVENT
CREATED:20111021T142303Z
LAST-MODIFIED:20111024T080017Z
DTSTAMP:20111024T080017Z
UID:c7a73241-7541-4fba-a0d0-a13e9f68de73
SUMMARY:Vorstellungsgespräch beim Kommunikationsdienst des Regierungsrats
 
CATEGORIES:Besprechung
X-MOZ-LASTACK:20111024T080017Z
DTSTART;TZID=Europe/Berlin:20111024T141500
DTEND;TZID=Europe/Berlin:20111024T151500
LOCATION:Aargauerplatz
DESCRIPTION:Regierungsgebäude am Aargauerplatz.\n\n2 Minuten vom Bahnhof\
 , nach Brüggli beim Empfang melden. Wenn Eintritt von unten\, klingeln\, 
 um eingelassen zu werden.
X-MOZ-GENERATION:1
BEGIN:VALARM
ACTION:DISPLAY
TRIGGER;VALUE=DATE-TIME:20111024T080000Z
DESCRIPTION:Mozilla Standardbeschreibung
END:VALARM
END:VEVENT
BEGIN:VEVENT
CREATED:20111004T114130Z
LAST-MODIFIED:20111026T094827Z
DTSTAMP:20111026T094827Z
UID:48ad2123-3c2d-443a-8e1c-a0f371e630b9
SUMMARY:Massage (Hürlimann)
X-MOZ-LASTACK:20111026T094827Z
DTSTART;TZID=Europe/Berlin:20111026T133000
DTEND;TZID=Europe/Berlin:20111026T143000
LOCATION:Bonstettenweg 3\, 3012 Bern
X-MOZ-GENERATION:6
BEGIN:VALARM
ACTION:DISPLAY
TRIGGER;VALUE=DURATION:-PT2H
DESCRIPTION:Mozilla Standardbeschreibung
END:VALARM
END:VEVENT
BEGIN:VEVENT
CREATED:20111106T103736Z
LAST-MODIFIED:20111105T193948Z
DTSTAMP:20111105T193948Z
UID:{ABC2476E-6E63-451D-BC9F-23107C9A335C}
SUMMARY:Einführung M. Hassler Arbeitsplatz
PRIORITY:5
STATUS:CONFIRMED
ORGANIZER;CN=Hauri Elisabeth SKKOMMRR:mailto:elisabeth.hauri@ag.ch
ATTENDEE;RSVP=TRUE;CN='Michel Hassler';PARTSTAT=NEEDS-ACTION;ROLE=REQ-PART
 ICIPANT:mailto:michel.hassler@powergrid.ch
ATTENDEE;CN=Michel Hassler;PARTSTAT=ACCEPTED;ROLE=REQ-PARTICIPANT:mailto:m
 e@mihas.ch
DTSTART;TZID=W. Europe Standard Time:20111111T100000
DTEND;TZID=W. Europe Standard Time:20111111T110000
CLASS:PUBLIC
DESCRIPTION:Zeit: Freitag\, 11. November 2011 10:00-11:00 (GMT+01:00) Amst
 erdam\, Berlin\, Bern\, Rom\, Stockholm\, Wien.\nOrt: Büro 0.13\n\n*~*~*~
 *~*~*~*~*~*~*\n\nEinführung von Michel Hassler in folgende Gebiete:\n• 
       Interflex\n•       Arbeitszeit stempeln\, Korrekturen\n•       L
 eistungserfassung\n•       Monatsrapport\n•       CDAG\n•       Vorl
 agen generieren lassen\n•       Visitenkarten bestellen?\n        P:\\In
 fo\\Admin\\Formulare_Muster\\Visitenkarten 090319.doc\n•       Kopierer\
 n•       Code mitteilen\n•       Scan/Kopieren/Ausgaben\n•       Zei
 gen wo Papier ist\n•       Zuständigkeiten\n•       Outlook\n•     
   Signaturen erfassen\n•       Postfächer der anderen Mitbenutzer\n• 
       Kalender / Freigabe / Gruppenkalender / ORG: Postfächer\n•       
 Eintragen von Abwesenheiten\n•       Mailverteiler\n•       Aufgabenpl
 anung\n•       Datenstruktur\n•       P: Info etc.\n•       A/P/D\n
 •       Prozesse\n•       Projekte\n•       Archiv\n•       Anleit
 ungen für Office-Programme und Problemchen\nsiehe link in Mail. http://ww
 w.ag.ch/itag/de/pub/kundenservice/problemstellungen_und_loesunge.php\n• 
       Büromaterial?\n\n
TRANSP:OPAQUE
SEQUENCE:0
LOCATION:Büro 0.13
X-MICROSOFT-CDO-APPT-SEQUENCE:0
X-MICROSOFT-CDO-OWNERAPPTID:-1478182949
X-MICROSOFT-CDO-BUSYSTATUS:TENTATIVE
X-MICROSOFT-CDO-INTENDEDSTATUS:BUSY
X-MICROSOFT-CDO-ALLDAYEVENT:FALSE
X-MICROSOFT-CDO-IMPORTANCE:1
X-MICROSOFT-CDO-INSTTYPE:0
X-MOZ-RECEIVED-SEQUENCE:0
X-MOZ-RECEIVED-DTSTAMP:20111104T170725Z
END:VEVENT
BEGIN:VEVENT
CREATED:20111106T103736Z
LAST-MODIFIED:20111105T194047Z
DTSTAMP:20111105T194047Z
UID:040000008200E00074C5B7101A82E0080000000030757BD6179BCC0100000000000000
 00100000003A90078995416F479F10EDD1D4484D04
SUMMARY:Einführung M. Hassler Arbeitsplatz
PRIORITY:5
STATUS:CONFIRMED
ORGANIZER;CN=Hauri Elisabeth SKKOMMRR:mailto:elisabeth.hauri@ag.ch
ATTENDEE;RSVP=TRUE;CN='Michel Hassler';PARTSTAT=NEEDS-ACTION;ROLE=REQ-PART
 ICIPANT:mailto:michel.hassler@powergrid.ch
ATTENDEE;CN=Michel Hassler;PARTSTAT=ACCEPTED;ROLE=REQ-PARTICIPANT:mailto:m
 e@mihas.ch
DTSTART;TZID=W. Europe Standard Time:20111110T090000
DTEND;TZID=W. Europe Standard Time:20111110T103000
CLASS:PUBLIC
DESCRIPTION:Zeit: Donnerstag\, 10. November 2011 09:00-10:30 (GMT+01:00) A
 msterdam\, Berlin\, Bern\, Rom\, Stockholm\, Wien.\nOrt: Büro 0.13\n\n*~*
 ~*~*~*~*~*~*~*~*\n\nEinführung von Michel Hassler in folgende Gebiete:\n
 •       Interflex\n•       Arbeitszeit stempeln\, Korrekturen\n•    
    Leistungserfassung\n•       Monatsrapport\n•       CDAG\n•       
 Vorlagen generieren lassen\n•       Visitenkarten bestellen?\n        P:
 \\Info\\Admin\\Formulare_Muster\\Visitenkarten 090319.doc\n��       Ko
 pierer\n•       Code mitteilen\n•       Scan/Kopieren/Ausgaben\n•   
     Zeigen wo Papier ist\n•       Zuständigkeiten\n•       Outlook\n
 •       Signaturen erfassen\n•       Postfächer der anderen Mitbenutz
 er\n•       Kalender / Freigabe / Gruppenkalender / ORG: Postf��cher
 \n•       Eintragen von Abwesenheiten\n•       Mailverteiler\n•     
   Aufgabenplanung\n•       Datenstruktur\n•       P: Info etc.\n��
 �       A/P/D\n•       Prozesse\n•       Projekte\n•       Archiv\
 n•       Anleitungen für Office-Programme und Problemchen\nsiehe link i
 n Mail. http://www.ag.ch/itag/de/pub/kundenservice/problemstellungen_und_l
 oesunge.php\n•       Büromaterial?\n\n
TRANSP:OPAQUE
SEQUENCE:0
LOCATION:Büro 0.13
X-MICROSOFT-CDO-APPT-SEQUENCE:0
X-MICROSOFT-CDO-OWNERAPPTID:-1
X-MICROSOFT-CDO-BUSYSTATUS:TENTATIVE
X-MICROSOFT-CDO-INTENDEDSTATUS:BUSY
X-MICROSOFT-CDO-ALLDAYEVENT:FALSE
X-MICROSOFT-CDO-IMPORTANCE:1
X-MICROSOFT-CDO-INSTTYPE:0
X-MOZ-RECEIVED-SEQUENCE:0
X-MOZ-RECEIVED-DTSTAMP:20111104T163721Z
END:VEVENT
BEGIN:VEVENT
CREATED:20111106T103736Z
LAST-MODIFIED:20111105T194056Z
DTSTAMP:20111105T194056Z
UID:{2A769466-826B-4EA7-B359-74D9CD621193}
SUMMARY:Einführung M. Massler "Aus der Nachbarschaft" Medienspiegel
PRIORITY:5
STATUS:CONFIRMED
ORGANIZER;CN=Hauri Elisabeth SKKOMMRR:mailto:elisabeth.hauri@ag.ch
ATTENDEE;RSVP=TRUE;CN='Michel Hassler';PARTSTAT=NEEDS-ACTION;ROLE=REQ-PART
 ICIPANT:mailto:michel.hassler@powergrid.ch
ATTENDEE;CN=Michel Hassler;PARTSTAT=ACCEPTED;ROLE=REQ-PARTICIPANT:mailto:m
 e@mihas.ch
DTSTART;TZID=W. Europe Standard Time:20111110T110000
DTEND;TZID=W. Europe Standard Time:20111110T120000
CLASS:PUBLIC
DESCRIPTION:Zeit: Donnerstag\, 10. November 2011 11:00-12:00 (GMT+01:00) A
 msterdam\, Berlin\, Bern\, Rom\, Stockholm\, Wien.\nOrt: 0.13\n\n*~*~*~*~*
 ~*~*~*~*~*\n\n\n------------\nBetreff:        Aus der Nachbarschaft\nFäll
 ig am:      Freitag\, 4. November 2011\n\nStatus: Nicht begonnen\nProzent 
 erledigt:       0%\n\nGesamtaufwand:  0 Stunden\nIst-Aufwand:    0 Stunden
 \n\nZuständig:      Hauri Elisabeth SKKOMMRR\n\n\n\n\n
TRANSP:OPAQUE
SEQUENCE:0
LOCATION:0.13
X-MICROSOFT-CDO-APPT-SEQUENCE:0
X-MICROSOFT-CDO-OWNERAPPTID:-1
X-MICROSOFT-CDO-BUSYSTATUS:TENTATIVE
X-MICROSOFT-CDO-INTENDEDSTATUS:BUSY
X-MICROSOFT-CDO-ALLDAYEVENT:FALSE
X-MICROSOFT-CDO-IMPORTANCE:1
X-MICROSOFT-CDO-INSTTYPE:0
X-MOZ-RECEIVED-SEQUENCE:0
X-MOZ-RECEIVED-DTSTAMP:20111104T170138Z
END:VEVENT
BEGIN:VEVENT
CREATED:20111106T103736Z
LAST-MODIFIED:20111105T194101Z
DTSTAMP:20111105T194101Z
UID:040000008200E00074C5B7101A82E008000000006098858E219ACC0100000000000000
 0010000000BE9803FD9BECBD4CB06B9750B46C74F3
SUMMARY:MK Energiegesetz vorbereiten
PRIORITY:5
STATUS:CONFIRMED
ORGANIZER;CN=Hauri Elisabeth SKKOMMRR:mailto:elisabeth.hauri@ag.ch
ATTENDEE;RSVP=TRUE;CN='Michel Hassler';PARTSTAT=NEEDS-ACTION;ROLE=REQ-PART
 ICIPANT:mailto:michel.hassler@powergrid.ch
ATTENDEE;CN=Michel Hassler;PARTSTAT=ACCEPTED;ROLE=REQ-PARTICIPANT:mailto:m
 e@mihas.ch
DTSTART;TZID=W. Europe Standard Time:20111110T150000
DTEND;TZID=W. Europe Standard Time:20111110T170000
CLASS:PUBLIC
DESCRIPTION:Zeit: Donnerstag\, 10. November 2011 15:00-17:00 (GMT+01:00) A
 msterdam\, Berlin\, Bern\, Rom\, Stockholm\, Wien.\nOrt: Büro 0.13\n\n*~*
 ~*~*~*~*~*~*~*~*\n\n\n\n
TRANSP:OPAQUE
SEQUENCE:0
LOCATION:Büro 0.13
X-MICROSOFT-CDO-APPT-SEQUENCE:0
X-MICROSOFT-CDO-OWNERAPPTID:-1
X-MICROSOFT-CDO-BUSYSTATUS:TENTATIVE
X-MICROSOFT-CDO-INTENDEDSTATUS:BUSY
X-MICROSOFT-CDO-ALLDAYEVENT:FALSE
X-MICROSOFT-CDO-IMPORTANCE:1
X-MICROSOFT-CDO-INSTTYPE:0
X-MOZ-RECEIVED-SEQUENCE:0
X-MOZ-RECEIVED-DTSTAMP:20111104T170533Z
END:VEVENT
END:VCALENDAR
